Package: ReactomeGraph4R Version: 1.17.1 Command: /home/biocbuild/R/R/bin/R CMD INSTALL ReactomeGraph4R StartedAt: 2025-10-23 21:34:33 -0000 (Thu, 23 Oct 2025) EndedAt: 2025-10-23 21:34:33 -0000 (Thu, 23 Oct 2025) EllapsedTime: 0.3 seconds RetCode: 1 Status: ERROR