Package: ReactomeGraph4R Version: 1.17.1 Command: /Library/Frameworks/R.framework/Resources/bin/R CMD INSTALL ReactomeGraph4R StartedAt: 2025-10-24 16:05:04 -0400 (Fri, 24 Oct 2025) EndedAt: 2025-10-24 16:05:05 -0400 (Fri, 24 Oct 2025) EllapsedTime: 0.3 seconds RetCode: 1 Status: ERROR