Package: ReactomeGraph4R Version: 1.17.1 Command: /Library/Frameworks/R.framework/Resources/bin/R CMD build --keep-empty-dirs --no-resave-data ReactomeGraph4R StartedAt: 2025-10-24 18:25:24 -0400 (Fri, 24 Oct 2025) EndedAt: 2025-10-24 18:25:26 -0400 (Fri, 24 Oct 2025) EllapsedTime: 2.3 seconds RetCode: 1 Status: ERROR PackageFile: None PackageFileSize: NA