Package: ReactomeGSA Version: 1.23.0 Command: /home/biocbuild/R/R/bin/R CMD INSTALL ReactomeGSA StartedAt: 2025-10-23 21:17:56 -0000 (Thu, 23 Oct 2025) EndedAt: 2025-10-23 21:18:08 -0000 (Thu, 23 Oct 2025) EllapsedTime: 12.5 seconds RetCode: 0 Status: OK