Package: ReactomeGSA Version: 1.23.0 Command: /home/biocbuild/R/R/bin/R CMD build --keep-empty-dirs --no-resave-data ReactomeGSA StartedAt: 2025-10-21 02:21:39 -0000 (Tue, 21 Oct 2025) EndedAt: 2025-10-21 02:28:29 -0000 (Tue, 21 Oct 2025) EllapsedTime: 410.2 seconds RetCode: 0 Status: OK PackageFile: ReactomeGSA_1.23.0.tar.gz PackageFileSize: 197.4 KiB