Package: ReactomeGSA Version: 1.24.0 Command: /Library/Frameworks/R.framework/Resources/bin/R CMD check --install=check:ReactomeGSA.install-out.txt --library=/Library/Frameworks/R.framework/Resources/library --no-vignettes --timings ReactomeGSA_1.24.0.tar.gz StartedAt: 2025-11-02 23:39:53 -0500 (Sun, 02 Nov 2025) EndedAt: 2025-11-02 23:55:48 -0500 (Sun, 02 Nov 2025) EllapsedTime: 954.7 seconds RetCode: 0 Status: OK CheckDir: ReactomeGSA.Rcheck Warnings: 0