Package: ReactomeGSA Version: 1.23.0 Command: /Library/Frameworks/R.framework/Resources/bin/R CMD build --keep-empty-dirs --no-resave-data ReactomeGSA StartedAt: 2025-10-27 18:18:41 -0400 (Mon, 27 Oct 2025) EndedAt: 2025-10-27 18:24:34 -0400 (Mon, 27 Oct 2025) EllapsedTime: 353.2 seconds RetCode: 0 Status: OK PackageFile: ReactomeGSA_1.23.0.tar.gz PackageFileSize: 399.9 KiB