Package: ReactomeGSA Version: 1.23.0 Command: /Library/Frameworks/R.framework/Resources/bin/R CMD check --install=check:ReactomeGSA.install-out.txt --library=/Library/Frameworks/R.framework/Resources/library --no-vignettes --timings ReactomeGSA_1.23.0.tar.gz StartedAt: 2025-10-27 21:33:51 -0400 (Mon, 27 Oct 2025) EndedAt: 2025-10-27 21:44:40 -0400 (Mon, 27 Oct 2025) EllapsedTime: 648.5 seconds RetCode: 0 Status: OK CheckDir: ReactomeGSA.Rcheck Warnings: 0