Package: ReUseData Version: 1.9.0 Command: /home/biocbuild/bbs-3.22-bioc/R/bin/R CMD INSTALL ReUseData StartedAt: 2025-10-24 15:23:36 -0400 (Fri, 24 Oct 2025) EndedAt: 2025-10-24 15:23:50 -0400 (Fri, 24 Oct 2025) EllapsedTime: 13.9 seconds RetCode: 0 Status: OK