Package: ReUseData Version: 1.9.0 Command: /Library/Frameworks/R.framework/Resources/bin/R CMD INSTALL ReUseData StartedAt: 2025-10-24 15:23:03 -0400 (Fri, 24 Oct 2025) EndedAt: 2025-10-24 15:23:34 -0400 (Fri, 24 Oct 2025) EllapsedTime: 31.0 seconds RetCode: 0 Status: OK