Package: ReUseData Version: 1.9.0 Command: /Library/Frameworks/R.framework/Resources/bin/R CMD build --keep-empty-dirs --no-resave-data ReUseData StartedAt: 2025-10-24 18:27:28 -0400 (Fri, 24 Oct 2025) EndedAt: 2025-10-24 18:28:38 -0400 (Fri, 24 Oct 2025) EllapsedTime: 70.9 seconds RetCode: 0 Status: OK PackageFile: ReUseData_1.9.0.tar.gz PackageFileSize: 915.4 KiB