Package: ReUseData Version: 1.9.0 Command: rm -rf ReUseData.buildbin-libdir && mkdir ReUseData.buildbin-libdir && /Users/biocbuild/BBS/utils/build-universal.sh ReUseData_1.9.0.tar.gz /Library/Frameworks/R.framework/Resources/bin/R ReUseData.buildbin-libdir StartedAt: 2025-10-24 23:16:12 -0400 (Fri, 24 Oct 2025) EndedAt: 2025-10-24 23:16:19 -0400 (Fri, 24 Oct 2025) EllapsedTime: 7.1 seconds RetCode: 0 Status: OK PackageFile: ReUseData_1.9.0.tgz PackageFileSize: 1.377 MiB