Package: Rdisop Version: 1.69.2 Command: /home/biocbuild/bbs-3.22-bioc/R/bin/R CMD build --keep-empty-dirs --no-resave-data --md5 Rdisop StartedAt: 2025-10-27 19:33:54 -0400 (Mon, 27 Oct 2025) EndedAt: 2025-10-27 19:34:30 -0400 (Mon, 27 Oct 2025) EllapsedTime: 36.1 seconds RetCode: 0 Status: OK PackageFile: Rdisop_1.69.2.tar.gz PackageFileSize: 721.3 KiB