Package: RcwlPipelines Version: 1.25.0 Command: /Library/Frameworks/R.framework/Resources/bin/R CMD build --keep-empty-dirs --no-resave-data RcwlPipelines StartedAt: 2025-10-24 18:25:02 -0400 (Fri, 24 Oct 2025) EndedAt: 2025-10-24 18:25:57 -0400 (Fri, 24 Oct 2025) EllapsedTime: 55.0 seconds RetCode: 0 Status: OK PackageFile: RcwlPipelines_1.25.0.tar.gz PackageFileSize: 877.4 KiB