Package: RcwlPipelines Version: 1.25.0 Command: rm -rf RcwlPipelines.buildbin-libdir && mkdir RcwlPipelines.buildbin-libdir && /Users/biocbuild/BBS/utils/build-universal.sh RcwlPipelines_1.25.0.tar.gz /Library/Frameworks/R.framework/Resources/bin/R RcwlPipelines.buildbin-libdir StartedAt: 2025-10-25 01:58:12 -0400 (Sat, 25 Oct 2025) EndedAt: 2025-10-25 01:58:34 -0400 (Sat, 25 Oct 2025) EllapsedTime: 21.8 seconds RetCode: 0 Status: OK PackageFile: RcwlPipelines_1.25.0.tgz PackageFileSize: 1.037 MiB