Package: RcwlPipelines Version: 1.25.0 Command: /Library/Frameworks/R.framework/Resources/bin/R CMD INSTALL RcwlPipelines StartedAt: 2025-10-24 15:09:41 -0400 (Fri, 24 Oct 2025) EndedAt: 2025-10-24 15:09:47 -0400 (Fri, 24 Oct 2025) EllapsedTime: 5.2 seconds RetCode: 0 Status: OK