Package: RcwlPipelines Version: 1.25.0 Command: /Library/Frameworks/R.framework/Resources/bin/R CMD build --keep-empty-dirs --no-resave-data RcwlPipelines StartedAt: 2025-10-24 17:28:51 -0400 (Fri, 24 Oct 2025) EndedAt: 2025-10-24 17:29:06 -0400 (Fri, 24 Oct 2025) EllapsedTime: 15.2 seconds RetCode: 0 Status: OK PackageFile: RcwlPipelines_1.25.0.tar.gz PackageFileSize: 877.4 KiB