Package: Rcwl Version: 1.26.0 Command: /Library/Frameworks/R.framework/Resources/bin/R CMD INSTALL Rcwl StartedAt: 2025-10-31 15:23:26 -0400 (Fri, 31 Oct 2025) EndedAt: 2025-10-31 15:23:52 -0400 (Fri, 31 Oct 2025) EllapsedTime: 26.1 seconds RetCode: 0 Status: OK