Package: Rcwl Version: 1.26.0 Command: /Library/Frameworks/R.framework/Resources/bin/R CMD build --keep-empty-dirs --no-resave-data Rcwl StartedAt: 2025-10-31 18:27:10 -0400 (Fri, 31 Oct 2025) EndedAt: 2025-10-31 18:36:58 -0400 (Fri, 31 Oct 2025) EllapsedTime: 588.9 seconds RetCode: 1 Status: ERROR PackageFile: None PackageFileSize: NA