Package: Rcwl Version: 1.25.0 Command: rm -rf Rcwl.buildbin-libdir && mkdir Rcwl.buildbin-libdir && /Users/biocbuild/BBS/utils/build-universal.sh Rcwl_1.25.0.tar.gz /Library/Frameworks/R.framework/Resources/bin/R Rcwl.buildbin-libdir StartedAt: 2025-10-29 01:52:44 -0400 (Wed, 29 Oct 2025) EndedAt: 2025-10-29 01:53:07 -0400 (Wed, 29 Oct 2025) EllapsedTime: 22.9 seconds RetCode: 0 Status: OK PackageFile: Rcwl_1.25.0.tgz PackageFileSize: 1.244 MiB