Package: Rcwl Version: 1.25.0 Command: /Library/Frameworks/R.framework/Resources/bin/R CMD INSTALL Rcwl StartedAt: 2025-10-24 15:09:29 -0400 (Fri, 24 Oct 2025) EndedAt: 2025-10-24 15:09:35 -0400 (Fri, 24 Oct 2025) EllapsedTime: 5.7 seconds RetCode: 0 Status: OK