Package: Rcwl Version: 1.25.0 Command: rm -rf Rcwl.buildbin-libdir && mkdir Rcwl.buildbin-libdir && /Users/biocbuild/BBS/utils/build-universal.sh Rcwl_1.25.0.tar.gz /Library/Frameworks/R.framework/Resources/bin/R Rcwl.buildbin-libdir StartedAt: 2025-10-24 23:15:42 -0400 (Fri, 24 Oct 2025) EndedAt: 2025-10-24 23:15:48 -0400 (Fri, 24 Oct 2025) EllapsedTime: 6.1 seconds RetCode: 0 Status: OK PackageFile: Rcwl_1.25.0.tgz PackageFileSize: 1.245 MiB