Package: Rcollectl Version: 1.9.0 Command: /home/biocbuild/bbs-3.22-bioc/R/bin/R CMD build --keep-empty-dirs --no-resave-data --md5 Rcollectl StartedAt: 2025-10-27 19:32:48 -0400 (Mon, 27 Oct 2025) EndedAt: 2025-10-27 19:33:12 -0400 (Mon, 27 Oct 2025) EllapsedTime: 24.0 seconds RetCode: 0 Status: OK PackageFile: Rcollectl_1.9.0.tar.gz PackageFileSize: 542.1 KiB