Package: RcisTarget Version: 1.30.0 Command: /home/biocbuild/bbs-3.22-bioc/R/bin/R CMD check --install=check:RcisTarget.install-out.txt --library=/home/biocbuild/bbs-3.22-bioc/R/site-library --timings RcisTarget_1.30.0.tar.gz StartedAt: 2025-10-31 03:06:47 -0400 (Fri, 31 Oct 2025) EndedAt: 2025-10-31 03:13:09 -0400 (Fri, 31 Oct 2025) EllapsedTime: 382.5 seconds RetCode: 1 Status: ERROR CheckDir: RcisTarget.Rcheck Warnings: NA