Package: RcisTarget Version: 1.29.0 Command: /Library/Frameworks/R.framework/Resources/bin/R CMD build --keep-empty-dirs --no-resave-data RcisTarget StartedAt: 2025-10-24 18:24:40 -0400 (Fri, 24 Oct 2025) EndedAt: 2025-10-24 18:26:16 -0400 (Fri, 24 Oct 2025) EllapsedTime: 96.1 seconds RetCode: 0 Status: OK PackageFile: RcisTarget_1.29.0.tar.gz PackageFileSize: 12.84 MiB