Package: RcisTarget Version: 1.29.0 Command: rm -rf RcisTarget.buildbin-libdir && mkdir RcisTarget.buildbin-libdir && /Users/biocbuild/BBS/utils/build-universal.sh RcisTarget_1.29.0.tar.gz /Library/Frameworks/R.framework/Resources/bin/R RcisTarget.buildbin-libdir StartedAt: 2025-10-28 02:29:55 -0400 (Tue, 28 Oct 2025) EndedAt: 2025-10-28 02:30:46 -0400 (Tue, 28 Oct 2025) EllapsedTime: 50.9 seconds RetCode: 0 Status: OK PackageFile: RcisTarget_1.29.0.tgz PackageFileSize: 13.01 MiB