Package: RcisTarget Version: 1.29.0 Command: /Library/Frameworks/R.framework/Resources/bin/R CMD INSTALL RcisTarget StartedAt: 2025-10-27 15:18:12 -0400 (Mon, 27 Oct 2025) EndedAt: 2025-10-27 15:18:28 -0400 (Mon, 27 Oct 2025) EllapsedTime: 15.9 seconds RetCode: 0 Status: OK