Package: Rbwa Version: 1.14.0 Command: /home/biocbuild/bbs-3.22-bioc/R/bin/R CMD INSTALL Rbwa StartedAt: 2025-11-03 15:01:51 -0500 (Mon, 03 Nov 2025) EndedAt: 2025-11-03 15:02:09 -0500 (Mon, 03 Nov 2025) EllapsedTime: 17.8 seconds RetCode: 0 Status: OK