Package: Rbwa Version: 1.14.0 Command: /home/biocbuild/bbs-3.22-bioc/R/bin/R CMD build --keep-empty-dirs --no-resave-data --md5 Rbwa StartedAt: 2025-11-03 19:35:07 -0500 (Mon, 03 Nov 2025) EndedAt: 2025-11-03 19:35:26 -0500 (Mon, 03 Nov 2025) EllapsedTime: 19.0 seconds RetCode: 0 Status: OK PackageFile: Rbwa_1.14.0.tar.gz PackageFileSize: 654.4 KiB