Package: Rbowtie2 Version: 2.15.0 Command: /home/biocbuild/bbs-3.22-bioc/R/bin/R CMD INSTALL Rbowtie2 StartedAt: 2025-10-27 15:18:45 -0400 (Mon, 27 Oct 2025) EndedAt: 2025-10-27 15:23:41 -0400 (Mon, 27 Oct 2025) EllapsedTime: 295.7 seconds RetCode: 0 Status: OK