Package: Rbowtie2 Version: 2.16.0 Command: /Library/Frameworks/R.framework/Resources/bin/R CMD INSTALL Rbowtie2 StartedAt: 2025-10-30 15:10:45 -0400 (Thu, 30 Oct 2025) EndedAt: 2025-10-30 15:11:50 -0400 (Thu, 30 Oct 2025) EllapsedTime: 65.0 seconds RetCode: 0 Status: OK