Package: Rbowtie2 Version: 2.16.0 Command: /Library/Frameworks/R.framework/Resources/bin/R CMD build --keep-empty-dirs --no-resave-data Rbowtie2 StartedAt: 2025-10-29 23:52:54 -0400 (Wed, 29 Oct 2025) EndedAt: 2025-10-29 23:54:05 -0400 (Wed, 29 Oct 2025) EllapsedTime: 70.8 seconds RetCode: 0 Status: OK PackageFile: Rbowtie2_2.16.0.tar.gz PackageFileSize: 1.711 MiB