Package: Rbowtie2 Version: 2.16.0 Command: rm -rf Rbowtie2.buildbin-libdir && mkdir Rbowtie2.buildbin-libdir && /Users/biocbuild/BBS/utils/build-universal.sh Rbowtie2_2.16.0.tar.gz /Library/Frameworks/R.framework/Resources/bin/R Rbowtie2.buildbin-libdir StartedAt: 2025-10-30 05:36:58 -0400 (Thu, 30 Oct 2025) EndedAt: 2025-10-30 05:38:07 -0400 (Thu, 30 Oct 2025) EllapsedTime: 69.3 seconds RetCode: 0 Status: OK PackageFile: Rbowtie2_2.16.0.tgz PackageFileSize: 1.844 MiB