Package: Rbowtie Version: 1.49.0 Command: /home/biocbuild/bbs-3.22-bioc/R/bin/R CMD INSTALL Rbowtie StartedAt: 2025-10-24 15:15:29 -0400 (Fri, 24 Oct 2025) EndedAt: 2025-10-24 15:16:54 -0400 (Fri, 24 Oct 2025) EllapsedTime: 85.8 seconds RetCode: 0 Status: OK