Package: Rbec Version: 1.17.0 Command: /home/biocbuild/bbs-3.22-bioc/R/bin/R CMD INSTALL Rbec StartedAt: 2025-10-27 15:54:19 -0400 (Mon, 27 Oct 2025) EndedAt: 2025-10-27 15:54:59 -0400 (Mon, 27 Oct 2025) EllapsedTime: 40.6 seconds RetCode: 0 Status: OK