Package: RbcBook1 Version: 1.77.0 Command: /home/biocbuild/bbs-3.22-bioc/R/bin/R CMD INSTALL RbcBook1 StartedAt: 2025-10-24 15:23:23 -0400 (Fri, 24 Oct 2025) EndedAt: 2025-10-24 15:23:28 -0400 (Fri, 24 Oct 2025) EllapsedTime: 4.6 seconds RetCode: 0 Status: OK