Package: RbcBook1 Version: 1.78.0 Command: /Library/Frameworks/R.framework/Resources/bin/R CMD INSTALL RbcBook1 StartedAt: 2025-11-03 15:19:17 -0500 (Mon, 03 Nov 2025) EndedAt: 2025-11-03 15:19:26 -0500 (Mon, 03 Nov 2025) EllapsedTime: 9.8 seconds RetCode: 0 Status: OK