Package: RbcBook1 Version: 1.78.0 Command: /Library/Frameworks/R.framework/Resources/bin/R CMD build --keep-empty-dirs --no-resave-data RbcBook1 StartedAt: 2025-11-02 18:25:17 -0500 (Sun, 02 Nov 2025) EndedAt: 2025-11-02 18:25:30 -0500 (Sun, 02 Nov 2025) EllapsedTime: 13.7 seconds RetCode: 0 Status: OK PackageFile: RbcBook1_1.78.0.tar.gz PackageFileSize: 6.412 MiB