Package: RbcBook1 Version: 1.78.0 Command: rm -rf RbcBook1.buildbin-libdir && mkdir RbcBook1.buildbin-libdir && /Users/biocbuild/BBS/utils/build-universal.sh RbcBook1_1.78.0.tar.gz /Library/Frameworks/R.framework/Resources/bin/R RbcBook1.buildbin-libdir StartedAt: 2025-11-04 01:57:59 -0500 (Tue, 04 Nov 2025) EndedAt: 2025-11-04 01:58:08 -0500 (Tue, 04 Nov 2025) EllapsedTime: 9.2 seconds RetCode: 0 Status: OK PackageFile: RbcBook1_1.78.0.tgz PackageFileSize: 6.449 MiB