Package: RbcBook1 Version: 1.77.0 Command: /Library/Frameworks/R.framework/Resources/bin/R CMD INSTALL RbcBook1 StartedAt: 2025-10-24 15:09:41 -0400 (Fri, 24 Oct 2025) EndedAt: 2025-10-24 15:09:44 -0400 (Fri, 24 Oct 2025) EllapsedTime: 2.8 seconds RetCode: 0 Status: OK