Package: RbcBook1 Version: 1.77.0 Command: rm -rf RbcBook1.buildbin-libdir && mkdir RbcBook1.buildbin-libdir && /Users/biocbuild/BBS/utils/build-universal.sh RbcBook1_1.77.0.tar.gz /Library/Frameworks/R.framework/Resources/bin/R RbcBook1.buildbin-libdir StartedAt: 2025-10-24 23:15:30 -0400 (Fri, 24 Oct 2025) EndedAt: 2025-10-24 23:15:32 -0400 (Fri, 24 Oct 2025) EllapsedTime: 2.0 seconds RetCode: 0 Status: OK PackageFile: RbcBook1_1.77.0.tgz PackageFileSize: 6.45 MiB