Package: RbcBook1 Version: 1.78.0 Maintainer: Vince Carey MaintainerEmail: stvjc at channing.harvard.edu git_url: https://git.bioconductor.org/packages/RbcBook1 git_branch: RELEASE_3_22 git_last_commit: 1e86750 git_last_commit_date: 2025-10-29 09:58:35 -0500 (Wed, 29 Oct 2025)