Package: Rarr Version: 1.9.18 Command: /home/biocbuild/bbs-3.22-bioc/R/bin/R CMD INSTALL Rarr StartedAt: 2025-10-27 15:17:50 -0400 (Mon, 27 Oct 2025) EndedAt: 2025-10-27 15:18:53 -0400 (Mon, 27 Oct 2025) EllapsedTime: 63.2 seconds RetCode: 0 Status: OK