Package: Rarr Version: 1.9.18 Command: /home/biocbuild/bbs-3.22-bioc/R/bin/R CMD build --keep-empty-dirs --no-resave-data --md5 Rarr StartedAt: 2025-10-24 19:38:50 -0400 (Fri, 24 Oct 2025) EndedAt: 2025-10-24 19:40:20 -0400 (Fri, 24 Oct 2025) EllapsedTime: 89.1 seconds RetCode: 0 Status: OK PackageFile: Rarr_1.9.18.tar.gz PackageFileSize: 1.398 MiB