Package: RareVariantVis Version: 2.37.0 Command: /Library/Frameworks/R.framework/Resources/bin/R CMD INSTALL RareVariantVis StartedAt: 2025-10-26 15:31:54 -0400 (Sun, 26 Oct 2025) EndedAt: 2025-10-26 15:32:14 -0400 (Sun, 26 Oct 2025) EllapsedTime: 19.4 seconds RetCode: 0 Status: OK