Package: RareVariantVis Version: 2.37.0 Command: /Library/Frameworks/R.framework/Resources/bin/R CMD build --keep-empty-dirs --no-resave-data RareVariantVis StartedAt: 2025-10-26 17:39:44 -0400 (Sun, 26 Oct 2025) EndedAt: 2025-10-26 17:40:04 -0400 (Sun, 26 Oct 2025) EllapsedTime: 20.2 seconds RetCode: 0 Status: OK PackageFile: RareVariantVis_2.37.0.tar.gz PackageFileSize: 2.756 MiB