Package: RareVariantVis Version: 2.38.0 Maintainer: Tomasz Stokowy MaintainerEmail: tomasz.stokowy at k2.uib.no git_url: https://git.bioconductor.org/packages/RareVariantVis git_branch: RELEASE_3_22 git_last_commit: 883a165 git_last_commit_date: 2025-10-29 10:26:20 -0500 (Wed, 29 Oct 2025)