Package: RankProd Version: 3.36.0 Command: /Library/Frameworks/R.framework/Resources/bin/R CMD INSTALL RankProd StartedAt: 2025-10-31 15:15:47 -0400 (Fri, 31 Oct 2025) EndedAt: 2025-10-31 15:16:26 -0400 (Fri, 31 Oct 2025) EllapsedTime: 38.8 seconds RetCode: 0 Status: OK