Package: RankProd Version: 3.36.0 Command: /Library/Frameworks/R.framework/Resources/bin/R CMD build --keep-empty-dirs --no-resave-data RankProd StartedAt: 2025-10-31 18:25:36 -0400 (Fri, 31 Oct 2025) EndedAt: 2025-10-31 18:25:56 -0400 (Fri, 31 Oct 2025) EllapsedTime: 20.5 seconds RetCode: 0 Status: OK PackageFile: RankProd_3.36.0.tar.gz PackageFileSize: 775.9 KiB