Package: RankProd Version: 3.36.0 Command: rm -rf RankProd.buildbin-libdir && mkdir RankProd.buildbin-libdir && /Users/biocbuild/BBS/utils/build-universal.sh RankProd_3.36.0.tar.gz /Library/Frameworks/R.framework/Resources/bin/R RankProd.buildbin-libdir StartedAt: 2025-11-04 01:57:58 -0500 (Tue, 04 Nov 2025) EndedAt: 2025-11-04 01:58:08 -0500 (Tue, 04 Nov 2025) EllapsedTime: 10.5 seconds RetCode: 0 Status: OK PackageFile: RankProd_3.36.0.tgz PackageFileSize: 875.1 KiB